BEGIN:VCALENDAR
VERSION:2.0
PRODID:-//https://www.fbcsheridan.org///NONSGML kigkonsult.se iCalcreator 2.10.15//
METHOD:PUBLISH
BEGIN:VEVENT
UID:20260423T172309UTC-9858fvApaG@https://www.fbcsheridan.org/
DTSTAMP:20260423T172309Z
DESCRIPTION: https://www.fbcsheridan.org/events/event/1162-sunday-morning-w
 orship-service
DTSTART:20480426T180000Z
DTEND:20480426T190000Z
LOCATION:Faith Baptist Church (4101 Riosa Road\, Sheridan\, CA 95681)
SUMMARY:Sunday Morning Worship Service
URL:https://www.fbcsheridan.org/events/event/1162-sunday-morning-worship-se
 rvice
END:VEVENT
BEGIN:VEVENT
UID:20260423T172309UTC-9859O9HDxv@https://www.fbcsheridan.org/
DTSTAMP:20260423T172309Z
DESCRIPTION: https://www.fbcsheridan.org/events/event/2414-sunday-school
DTSTART:20480426T170000Z
DTEND:20480426T180000Z
LOCATION:Faith Baptist Church (4101 Riosa Road\, Sheridan\, CA 95681)
SUMMARY:Sunday School
URL:https://www.fbcsheridan.org/events/event/2414-sunday-school
END:VEVENT
BEGIN:VEVENT
UID:20260423T172309UTC-9859vaPSov@https://www.fbcsheridan.org/
DTSTAMP:20260423T172309Z
DESCRIPTION: https://www.fbcsheridan.org/events/event/3667-sunday-evening-s
 ervice
DTSTART:20480427T000000Z
DTEND:20480427T010000Z
LOCATION:Faith Baptist Church (4101 Riosa Road\, Sheridan\, CA 95681)
SUMMARY:Sunday Evening Service
URL:https://www.fbcsheridan.org/events/event/3667-sunday-evening-service
END:VEVENT
END:VCALENDAR
