BEGIN:VCALENDAR
VERSION:2.0
PRODID:-//https://www.fbcsheridan.org///NONSGML kigkonsult.se iCalcreator 2.10.15//
METHOD:PUBLISH
BEGIN:VEVENT
UID:20260421T111124UTC-8618uSu0ds@https://www.fbcsheridan.org/
DTSTAMP:20260421T111124Z
DESCRIPTION: https://www.fbcsheridan.org/events/event/1006-sunday-morning-w
 orship-service
DTSTART:20450430T180000Z
DTEND:20450430T190000Z
LOCATION:Faith Baptist Church (4101 Riosa Road\, Sheridan\, CA 95681)
SUMMARY:Sunday Morning Worship Service
URL:https://www.fbcsheridan.org/events/event/1006-sunday-morning-worship-se
 rvice
END:VEVENT
BEGIN:VEVENT
UID:20260421T111124UTC-8620cfnICI@https://www.fbcsheridan.org/
DTSTAMP:20260421T111124Z
DESCRIPTION: https://www.fbcsheridan.org/events/event/2258-sunday-school
DTSTART:20450430T170000Z
DTEND:20450430T180000Z
LOCATION:Faith Baptist Church (4101 Riosa Road\, Sheridan\, CA 95681)
SUMMARY:Sunday School
URL:https://www.fbcsheridan.org/events/event/2258-sunday-school
END:VEVENT
BEGIN:VEVENT
UID:20260421T111124UTC-8622VNECfR@https://www.fbcsheridan.org/
DTSTAMP:20260421T111124Z
DESCRIPTION: https://www.fbcsheridan.org/events/event/3511-sunday-evening-s
 ervice
DTSTART:20450501T000000Z
DTEND:20450501T010000Z
LOCATION:Faith Baptist Church (4101 Riosa Road\, Sheridan\, CA 95681)
SUMMARY:Sunday Evening Service
URL:https://www.fbcsheridan.org/events/event/3511-sunday-evening-service
END:VEVENT
END:VCALENDAR
