BEGIN:VCALENDAR
VERSION:2.0
PRODID:-//https://www.fbcsheridan.org///NONSGML kigkonsult.se iCalcreator 2.10.15//
METHOD:PUBLISH
BEGIN:VEVENT
UID:20260423T190747UTC-6716j3ewVg@https://www.fbcsheridan.org/
DTSTAMP:20260423T190747Z
DESCRIPTION: https://www.fbcsheridan.org/events/event/1163-sunday-morning-w
 orship-service
DTSTART:20480503T180000Z
DTEND:20480503T190000Z
LOCATION:Faith Baptist Church (4101 Riosa Road\, Sheridan\, CA 95681)
SUMMARY:Sunday Morning Worship Service
URL:https://www.fbcsheridan.org/events/event/1163-sunday-morning-worship-se
 rvice
END:VEVENT
BEGIN:VEVENT
UID:20260423T190747UTC-67190BbCue@https://www.fbcsheridan.org/
DTSTAMP:20260423T190747Z
DESCRIPTION: https://www.fbcsheridan.org/events/event/2415-sunday-school
DTSTART:20480503T170000Z
DTEND:20480503T180000Z
LOCATION:Faith Baptist Church (4101 Riosa Road\, Sheridan\, CA 95681)
SUMMARY:Sunday School
URL:https://www.fbcsheridan.org/events/event/2415-sunday-school
END:VEVENT
BEGIN:VEVENT
UID:20260423T190747UTC-6720kTfPPs@https://www.fbcsheridan.org/
DTSTAMP:20260423T190747Z
DESCRIPTION: https://www.fbcsheridan.org/events/event/3668-sunday-evening-s
 ervice
DTSTART:20480504T000000Z
DTEND:20480504T010000Z
LOCATION:Faith Baptist Church (4101 Riosa Road\, Sheridan\, CA 95681)
SUMMARY:Sunday Evening Service
URL:https://www.fbcsheridan.org/events/event/3668-sunday-evening-service
END:VEVENT
END:VCALENDAR
