BEGIN:VCALENDAR
VERSION:2.0
PRODID:-//https://www.fbcsheridan.org///NONSGML kigkonsult.se iCalcreator 2.10.15//
METHOD:PUBLISH
BEGIN:VEVENT
UID:20260423T005501UTC-5421BR1RAF@https://www.fbcsheridan.org/
DTSTAMP:20260423T005501Z
DESCRIPTION: https://www.fbcsheridan.org/events/event/1111-sunday-morning-w
 orship-service
DTSTART:20470505T180000Z
DTEND:20470505T190000Z
LOCATION:Faith Baptist Church (4101 Riosa Road\, Sheridan\, CA 95681)
SUMMARY:Sunday Morning Worship Service
URL:https://www.fbcsheridan.org/events/event/1111-sunday-morning-worship-se
 rvice
END:VEVENT
BEGIN:VEVENT
UID:20260423T005501UTC-54246S59UM@https://www.fbcsheridan.org/
DTSTAMP:20260423T005501Z
DESCRIPTION: https://www.fbcsheridan.org/events/event/2363-sunday-school
DTSTART:20470505T170000Z
DTEND:20470505T180000Z
LOCATION:Faith Baptist Church (4101 Riosa Road\, Sheridan\, CA 95681)
SUMMARY:Sunday School
URL:https://www.fbcsheridan.org/events/event/2363-sunday-school
END:VEVENT
BEGIN:VEVENT
UID:20260423T005501UTC-5425MJ6aVd@https://www.fbcsheridan.org/
DTSTAMP:20260423T005501Z
DESCRIPTION: https://www.fbcsheridan.org/events/event/3616-sunday-evening-s
 ervice
DTSTART:20470506T000000Z
DTEND:20470506T010000Z
LOCATION:Faith Baptist Church (4101 Riosa Road\, Sheridan\, CA 95681)
SUMMARY:Sunday Evening Service
URL:https://www.fbcsheridan.org/events/event/3616-sunday-evening-service
END:VEVENT
END:VCALENDAR
