BEGIN:VCALENDAR
VERSION:2.0
PRODID:-//https://www.fbcsheridan.org///NONSGML kigkonsult.se iCalcreator 2.10.15//
METHOD:PUBLISH
BEGIN:VEVENT
UID:20260424T155420UTC-3213xlKitT@https://www.fbcsheridan.org/
DTSTAMP:20260424T155420Z
DESCRIPTION: https://www.fbcsheridan.org/events/event/4973-wednesday-evenin
 g-service
DTSTART:20490506T020000Z
DTEND:20490506T030000Z
LOCATION:Faith Baptist Church (4101 Riosa Road\, Sheridan\, CA 95681)
SUMMARY:Wednesday Evening Service
URL:https://www.fbcsheridan.org/events/event/4973-wednesday-evening-service
END:VEVENT
END:VCALENDAR
