BEGIN:VCALENDAR
VERSION:2.0
PRODID:-//https://www.fbcsheridan.org///NONSGML kigkonsult.se iCalcreator 2.10.15//
METHOD:PUBLISH
BEGIN:VEVENT
UID:20260420T191124UTC-9059pOCdk2@https://www.fbcsheridan.org/
DTSTAMP:20260420T191124Z
DESCRIPTION: https://www.fbcsheridan.org/events/event/955-sunday-morning-wo
 rship-service
DTSTART:20440508T180000Z
DTEND:20440508T190000Z
LOCATION:Faith Baptist Church (4101 Riosa Road\, Sheridan\, CA 95681)
SUMMARY:Sunday Morning Worship Service
URL:https://www.fbcsheridan.org/events/event/955-sunday-morning-worship-ser
 vice
END:VEVENT
BEGIN:VEVENT
UID:20260420T191124UTC-9062JFbJpv@https://www.fbcsheridan.org/
DTSTAMP:20260420T191124Z
DESCRIPTION: https://www.fbcsheridan.org/events/event/2207-sunday-school
DTSTART:20440508T170000Z
DTEND:20440508T180000Z
LOCATION:Faith Baptist Church (4101 Riosa Road\, Sheridan\, CA 95681)
SUMMARY:Sunday School
URL:https://www.fbcsheridan.org/events/event/2207-sunday-school
END:VEVENT
BEGIN:VEVENT
UID:20260420T191124UTC-9063r37i91@https://www.fbcsheridan.org/
DTSTAMP:20260420T191124Z
DESCRIPTION: https://www.fbcsheridan.org/events/event/3460-sunday-evening-s
 ervice
DTSTART:20440509T000000Z
DTEND:20440509T010000Z
LOCATION:Faith Baptist Church (4101 Riosa Road\, Sheridan\, CA 95681)
SUMMARY:Sunday Evening Service
URL:https://www.fbcsheridan.org/events/event/3460-sunday-evening-service
END:VEVENT
END:VCALENDAR
