BEGIN:VCALENDAR
VERSION:2.0
PRODID:-//https://www.fbcsheridan.org///NONSGML kigkonsult.se iCalcreator 2.10.15//
METHOD:PUBLISH
BEGIN:VEVENT
UID:20260424T155604UTC-4851LMRVsM@https://www.fbcsheridan.org/
DTSTAMP:20260424T155604Z
DESCRIPTION: https://www.fbcsheridan.org/events/event/1216-sunday-morning-w
 orship-service
DTSTART:20490509T180000Z
DTEND:20490509T190000Z
LOCATION:Faith Baptist Church (4101 Riosa Road\, Sheridan\, CA 95681)
SUMMARY:Sunday Morning Worship Service
URL:https://www.fbcsheridan.org/events/event/1216-sunday-morning-worship-se
 rvice
END:VEVENT
BEGIN:VEVENT
UID:20260424T155604UTC-4852EOV4b9@https://www.fbcsheridan.org/
DTSTAMP:20260424T155604Z
DESCRIPTION: https://www.fbcsheridan.org/events/event/2468-sunday-school
DTSTART:20490509T170000Z
DTEND:20490509T180000Z
LOCATION:Faith Baptist Church (4101 Riosa Road\, Sheridan\, CA 95681)
SUMMARY:Sunday School
URL:https://www.fbcsheridan.org/events/event/2468-sunday-school
END:VEVENT
BEGIN:VEVENT
UID:20260424T155604UTC-4853o5V2wk@https://www.fbcsheridan.org/
DTSTAMP:20260424T155604Z
DESCRIPTION: https://www.fbcsheridan.org/events/event/3721-sunday-evening-s
 ervice
DTSTART:20490510T000000Z
DTEND:20490510T010000Z
LOCATION:Faith Baptist Church (4101 Riosa Road\, Sheridan\, CA 95681)
SUMMARY:Sunday Evening Service
URL:https://www.fbcsheridan.org/events/event/3721-sunday-evening-service
END:VEVENT
END:VCALENDAR
