BEGIN:VCALENDAR
VERSION:2.0
PRODID:-//https://www.fbcsheridan.org///NONSGML kigkonsult.se iCalcreator 2.10.15//
METHOD:PUBLISH
BEGIN:VEVENT
UID:20260423T005522UTC-4779OO8X3M@https://www.fbcsheridan.org/
DTSTAMP:20260423T005522Z
DESCRIPTION: https://www.fbcsheridan.org/events/event/1112-sunday-morning-w
 orship-service
DTSTART:20470512T180000Z
DTEND:20470512T190000Z
LOCATION:Faith Baptist Church (4101 Riosa Road\, Sheridan\, CA 95681)
SUMMARY:Sunday Morning Worship Service
URL:https://www.fbcsheridan.org/events/event/1112-sunday-morning-worship-se
 rvice
END:VEVENT
BEGIN:VEVENT
UID:20260423T005522UTC-4780Z6gHCF@https://www.fbcsheridan.org/
DTSTAMP:20260423T005522Z
DESCRIPTION: https://www.fbcsheridan.org/events/event/2364-sunday-school
DTSTART:20470512T170000Z
DTEND:20470512T180000Z
LOCATION:Faith Baptist Church (4101 Riosa Road\, Sheridan\, CA 95681)
SUMMARY:Sunday School
URL:https://www.fbcsheridan.org/events/event/2364-sunday-school
END:VEVENT
BEGIN:VEVENT
UID:20260423T005522UTC-478116acKH@https://www.fbcsheridan.org/
DTSTAMP:20260423T005522Z
DESCRIPTION: https://www.fbcsheridan.org/events/event/3617-sunday-evening-s
 ervice
DTSTART:20470513T000000Z
DTEND:20470513T010000Z
LOCATION:Faith Baptist Church (4101 Riosa Road\, Sheridan\, CA 95681)
SUMMARY:Sunday Evening Service
URL:https://www.fbcsheridan.org/events/event/3617-sunday-evening-service
END:VEVENT
END:VCALENDAR
