BEGIN:VCALENDAR
VERSION:2.0
PRODID:-//https://www.fbcsheridan.org///NONSGML kigkonsult.se iCalcreator 2.10.15//
METHOD:PUBLISH
BEGIN:VEVENT
UID:20260423T005523UTC-0983HetshM@https://www.fbcsheridan.org/
DTSTAMP:20260423T005523Z
DESCRIPTION: https://www.fbcsheridan.org/events/event/1113-sunday-morning-w
 orship-service
DTSTART:20470519T180000Z
DTEND:20470519T190000Z
LOCATION:Faith Baptist Church (4101 Riosa Road\, Sheridan\, CA 95681)
SUMMARY:Sunday Morning Worship Service
URL:https://www.fbcsheridan.org/events/event/1113-sunday-morning-worship-se
 rvice
END:VEVENT
BEGIN:VEVENT
UID:20260423T005523UTC-0984uXSsVz@https://www.fbcsheridan.org/
DTSTAMP:20260423T005523Z
DESCRIPTION: https://www.fbcsheridan.org/events/event/2365-sunday-school
DTSTART:20470519T170000Z
DTEND:20470519T180000Z
LOCATION:Faith Baptist Church (4101 Riosa Road\, Sheridan\, CA 95681)
SUMMARY:Sunday School
URL:https://www.fbcsheridan.org/events/event/2365-sunday-school
END:VEVENT
BEGIN:VEVENT
UID:20260423T005523UTC-0985OLI67k@https://www.fbcsheridan.org/
DTSTAMP:20260423T005523Z
DESCRIPTION: https://www.fbcsheridan.org/events/event/3618-sunday-evening-s
 ervice
DTSTART:20470520T000000Z
DTEND:20470520T010000Z
LOCATION:Faith Baptist Church (4101 Riosa Road\, Sheridan\, CA 95681)
SUMMARY:Sunday Evening Service
URL:https://www.fbcsheridan.org/events/event/3618-sunday-evening-service
END:VEVENT
END:VCALENDAR
