BEGIN:VCALENDAR
VERSION:2.0
PRODID:-//https://www.fbcsheridan.org///NONSGML kigkonsult.se iCalcreator 2.10.15//
METHOD:PUBLISH
BEGIN:VEVENT
UID:20260423T005522UTC-3699wRvOWX@https://www.fbcsheridan.org/
DTSTAMP:20260423T005522Z
DESCRIPTION: https://www.fbcsheridan.org/events/event/1114-sunday-morning-w
 orship-service
DTSTART:20470526T180000Z
DTEND:20470526T190000Z
LOCATION:Faith Baptist Church (4101 Riosa Road\, Sheridan\, CA 95681)
SUMMARY:Sunday Morning Worship Service
URL:https://www.fbcsheridan.org/events/event/1114-sunday-morning-worship-se
 rvice
END:VEVENT
BEGIN:VEVENT
UID:20260423T005522UTC-3701l8AkEX@https://www.fbcsheridan.org/
DTSTAMP:20260423T005522Z
DESCRIPTION: https://www.fbcsheridan.org/events/event/2366-sunday-school
DTSTART:20470526T170000Z
DTEND:20470526T180000Z
LOCATION:Faith Baptist Church (4101 Riosa Road\, Sheridan\, CA 95681)
SUMMARY:Sunday School
URL:https://www.fbcsheridan.org/events/event/2366-sunday-school
END:VEVENT
BEGIN:VEVENT
UID:20260423T005522UTC-3701GEokBD@https://www.fbcsheridan.org/
DTSTAMP:20260423T005522Z
DESCRIPTION: https://www.fbcsheridan.org/events/event/3619-sunday-evening-s
 ervice
DTSTART:20470527T000000Z
DTEND:20470527T010000Z
LOCATION:Faith Baptist Church (4101 Riosa Road\, Sheridan\, CA 95681)
SUMMARY:Sunday Evening Service
URL:https://www.fbcsheridan.org/events/event/3619-sunday-evening-service
END:VEVENT
END:VCALENDAR
