BEGIN:VCALENDAR
VERSION:2.0
PRODID:-//https://www.fbcsheridan.org///NONSGML kigkonsult.se iCalcreator 2.10.15//
METHOD:PUBLISH
BEGIN:VEVENT
UID:20260421T134940UTC-8970ifeTJM@https://www.fbcsheridan.org/
DTSTAMP:20260421T134940Z
DESCRIPTION: https://www.fbcsheridan.org/events/event/1010-sunday-morning-w
 orship-service
DTSTART:20450528T180000Z
DTEND:20450528T190000Z
LOCATION:Faith Baptist Church (4101 Riosa Road\, Sheridan\, CA 95681)
SUMMARY:Sunday Morning Worship Service
URL:https://www.fbcsheridan.org/events/event/1010-sunday-morning-worship-se
 rvice
END:VEVENT
BEGIN:VEVENT
UID:20260421T134940UTC-8972mzN8VF@https://www.fbcsheridan.org/
DTSTAMP:20260421T134940Z
DESCRIPTION: https://www.fbcsheridan.org/events/event/2262-sunday-school
DTSTART:20450528T170000Z
DTEND:20450528T180000Z
LOCATION:Faith Baptist Church (4101 Riosa Road\, Sheridan\, CA 95681)
SUMMARY:Sunday School
URL:https://www.fbcsheridan.org/events/event/2262-sunday-school
END:VEVENT
BEGIN:VEVENT
UID:20260421T134940UTC-8972iIVDrM@https://www.fbcsheridan.org/
DTSTAMP:20260421T134940Z
DESCRIPTION: https://www.fbcsheridan.org/events/event/3515-sunday-evening-s
 ervice
DTSTART:20450529T000000Z
DTEND:20450529T010000Z
LOCATION:Faith Baptist Church (4101 Riosa Road\, Sheridan\, CA 95681)
SUMMARY:Sunday Evening Service
URL:https://www.fbcsheridan.org/events/event/3515-sunday-evening-service
END:VEVENT
END:VCALENDAR
