BEGIN:VCALENDAR
VERSION:2.0
PRODID:-//https://www.fbcsheridan.org///NONSGML kigkonsult.se iCalcreator 2.10.15//
METHOD:PUBLISH
BEGIN:VEVENT
UID:20260424T155419UTC-4246rvoTHu@https://www.fbcsheridan.org/
DTSTAMP:20260424T155419Z
DESCRIPTION: https://www.fbcsheridan.org/events/event/1219-sunday-morning-w
 orship-service
DTSTART:20490530T180000Z
DTEND:20490530T190000Z
LOCATION:Faith Baptist Church (4101 Riosa Road\, Sheridan\, CA 95681)
SUMMARY:Sunday Morning Worship Service
URL:https://www.fbcsheridan.org/events/event/1219-sunday-morning-worship-se
 rvice
END:VEVENT
BEGIN:VEVENT
UID:20260424T155419UTC-4247WUDUNK@https://www.fbcsheridan.org/
DTSTAMP:20260424T155419Z
DESCRIPTION: https://www.fbcsheridan.org/events/event/2471-sunday-school
DTSTART:20490530T170000Z
DTEND:20490530T180000Z
LOCATION:Faith Baptist Church (4101 Riosa Road\, Sheridan\, CA 95681)
SUMMARY:Sunday School
URL:https://www.fbcsheridan.org/events/event/2471-sunday-school
END:VEVENT
BEGIN:VEVENT
UID:20260424T155419UTC-4248bv4uVf@https://www.fbcsheridan.org/
DTSTAMP:20260424T155419Z
DESCRIPTION: https://www.fbcsheridan.org/events/event/3724-sunday-evening-s
 ervice
DTSTART:20490531T000000Z
DTEND:20490531T010000Z
LOCATION:Faith Baptist Church (4101 Riosa Road\, Sheridan\, CA 95681)
SUMMARY:Sunday Evening Service
URL:https://www.fbcsheridan.org/events/event/3724-sunday-evening-service
END:VEVENT
END:VCALENDAR
