BEGIN:VCALENDAR
VERSION:2.0
PRODID:-//https://www.fbcsheridan.org///NONSGML kigkonsult.se iCalcreator 2.10.15//
METHOD:PUBLISH
BEGIN:VEVENT
UID:20260423T190209UTC-6601kU0BEP@https://www.fbcsheridan.org/
DTSTAMP:20260423T190209Z
DESCRIPTION: https://www.fbcsheridan.org/events/event/1167-sunday-morning-w
 orship-service
DTSTART:20480531T180000Z
DTEND:20480531T190000Z
LOCATION:Faith Baptist Church (4101 Riosa Road\, Sheridan\, CA 95681)
SUMMARY:Sunday Morning Worship Service
URL:https://www.fbcsheridan.org/events/event/1167-sunday-morning-worship-se
 rvice
END:VEVENT
BEGIN:VEVENT
UID:20260423T190209UTC-66029lsC2U@https://www.fbcsheridan.org/
DTSTAMP:20260423T190209Z
DESCRIPTION: https://www.fbcsheridan.org/events/event/2419-sunday-school
DTSTART:20480531T170000Z
DTEND:20480531T180000Z
LOCATION:Faith Baptist Church (4101 Riosa Road\, Sheridan\, CA 95681)
SUMMARY:Sunday School
URL:https://www.fbcsheridan.org/events/event/2419-sunday-school
END:VEVENT
BEGIN:VEVENT
UID:20260423T190209UTC-6603VG7OAU@https://www.fbcsheridan.org/
DTSTAMP:20260423T190209Z
DESCRIPTION: https://www.fbcsheridan.org/events/event/3672-sunday-evening-s
 ervice
DTSTART:20480601T000000Z
DTEND:20480601T010000Z
LOCATION:Faith Baptist Church (4101 Riosa Road\, Sheridan\, CA 95681)
SUMMARY:Sunday Evening Service
URL:https://www.fbcsheridan.org/events/event/3672-sunday-evening-service
END:VEVENT
END:VCALENDAR
