BEGIN:VCALENDAR
VERSION:2.0
PRODID:-//https://www.fbcsheridan.org///NONSGML kigkonsult.se iCalcreator 2.10.15//
METHOD:PUBLISH
BEGIN:VEVENT
UID:20260423T023639UTC-5538rLArBi@https://www.fbcsheridan.org/
DTSTAMP:20260423T023639Z
DESCRIPTION: https://www.fbcsheridan.org/events/event/1115-sunday-morning-w
 orship-service
DTSTART:20470602T180000Z
DTEND:20470602T190000Z
LOCATION:Faith Baptist Church (4101 Riosa Road\, Sheridan\, CA 95681)
SUMMARY:Sunday Morning Worship Service
URL:https://www.fbcsheridan.org/events/event/1115-sunday-morning-worship-se
 rvice
END:VEVENT
BEGIN:VEVENT
UID:20260423T023639UTC-5539IwUhUk@https://www.fbcsheridan.org/
DTSTAMP:20260423T023639Z
DESCRIPTION: https://www.fbcsheridan.org/events/event/2367-sunday-school
DTSTART:20470602T170000Z
DTEND:20470602T180000Z
LOCATION:Faith Baptist Church (4101 Riosa Road\, Sheridan\, CA 95681)
SUMMARY:Sunday School
URL:https://www.fbcsheridan.org/events/event/2367-sunday-school
END:VEVENT
BEGIN:VEVENT
UID:20260423T023639UTC-5540BoOlzx@https://www.fbcsheridan.org/
DTSTAMP:20260423T023639Z
DESCRIPTION: https://www.fbcsheridan.org/events/event/3620-sunday-evening-s
 ervice
DTSTART:20470603T000000Z
DTEND:20470603T010000Z
LOCATION:Faith Baptist Church (4101 Riosa Road\, Sheridan\, CA 95681)
SUMMARY:Sunday Evening Service
URL:https://www.fbcsheridan.org/events/event/3620-sunday-evening-service
END:VEVENT
END:VCALENDAR
