BEGIN:VCALENDAR
VERSION:2.0
PRODID:-//https://www.fbcsheridan.org///NONSGML kigkonsult.se iCalcreator 2.10.15//
METHOD:PUBLISH
BEGIN:VEVENT
UID:20260424T162101UTC-5895SSbUkv@https://www.fbcsheridan.org/
DTSTAMP:20260424T162101Z
DESCRIPTION: https://www.fbcsheridan.org/events/event/4977-wednesday-evenin
 g-service
DTSTART:20490603T020000Z
DTEND:20490603T030000Z
LOCATION:Faith Baptist Church (4101 Riosa Road\, Sheridan\, CA 95681)
SUMMARY:Wednesday Evening Service
URL:https://www.fbcsheridan.org/events/event/4977-wednesday-evening-service
END:VEVENT
END:VCALENDAR
