BEGIN:VCALENDAR
VERSION:2.0
PRODID:-//https://www.fbcsheridan.org///NONSGML kigkonsult.se iCalcreator 2.10.15//
METHOD:PUBLISH
BEGIN:VEVENT
UID:20260421T134809UTC-2903cALp1W@https://www.fbcsheridan.org/
DTSTAMP:20260421T134809Z
DESCRIPTION: https://www.fbcsheridan.org/events/event/1011-sunday-morning-w
 orship-service
DTSTART:20450604T180000Z
DTEND:20450604T190000Z
LOCATION:Faith Baptist Church (4101 Riosa Road\, Sheridan\, CA 95681)
SUMMARY:Sunday Morning Worship Service
URL:https://www.fbcsheridan.org/events/event/1011-sunday-morning-worship-se
 rvice
END:VEVENT
BEGIN:VEVENT
UID:20260421T134809UTC-2905VUeVob@https://www.fbcsheridan.org/
DTSTAMP:20260421T134809Z
DESCRIPTION: https://www.fbcsheridan.org/events/event/2263-sunday-school
DTSTART:20450604T170000Z
DTEND:20450604T180000Z
LOCATION:Faith Baptist Church (4101 Riosa Road\, Sheridan\, CA 95681)
SUMMARY:Sunday School
URL:https://www.fbcsheridan.org/events/event/2263-sunday-school
END:VEVENT
BEGIN:VEVENT
UID:20260421T134809UTC-2906JbXwXL@https://www.fbcsheridan.org/
DTSTAMP:20260421T134809Z
DESCRIPTION: https://www.fbcsheridan.org/events/event/3516-sunday-evening-s
 ervice
DTSTART:20450605T000000Z
DTEND:20450605T010000Z
LOCATION:Faith Baptist Church (4101 Riosa Road\, Sheridan\, CA 95681)
SUMMARY:Sunday Evening Service
URL:https://www.fbcsheridan.org/events/event/3516-sunday-evening-service
END:VEVENT
END:VCALENDAR
