BEGIN:VCALENDAR
VERSION:2.0
PRODID:-//https://www.fbcsheridan.org///NONSGML kigkonsult.se iCalcreator 2.10.15//
METHOD:PUBLISH
BEGIN:VEVENT
UID:20260420T030428UTC-7250VlX1Zf@https://www.fbcsheridan.org/
DTSTAMP:20260420T030428Z
DESCRIPTION: https://www.fbcsheridan.org/events/event/907-sunday-morning-wo
 rship-service
DTSTART:20430607T180000Z
DTEND:20430607T190000Z
LOCATION:Faith Baptist Church (4101 Riosa Road\, Sheridan\, CA 95681)
SUMMARY:Sunday Morning Worship Service
URL:https://www.fbcsheridan.org/events/event/907-sunday-morning-worship-ser
 vice
END:VEVENT
BEGIN:VEVENT
UID:20260420T030428UTC-7251kZX6fZ@https://www.fbcsheridan.org/
DTSTAMP:20260420T030428Z
DESCRIPTION: https://www.fbcsheridan.org/events/event/2159-sunday-school
DTSTART:20430607T170000Z
DTEND:20430607T180000Z
LOCATION:Faith Baptist Church (4101 Riosa Road\, Sheridan\, CA 95681)
SUMMARY:Sunday School
URL:https://www.fbcsheridan.org/events/event/2159-sunday-school
END:VEVENT
BEGIN:VEVENT
UID:20260420T030428UTC-72525lbEsv@https://www.fbcsheridan.org/
DTSTAMP:20260420T030428Z
DESCRIPTION: https://www.fbcsheridan.org/events/event/3412-sunday-evening-s
 ervice
DTSTART:20430608T000000Z
DTEND:20430608T010000Z
LOCATION:Faith Baptist Church (4101 Riosa Road\, Sheridan\, CA 95681)
SUMMARY:Sunday Evening Service
URL:https://www.fbcsheridan.org/events/event/3412-sunday-evening-service
END:VEVENT
END:VCALENDAR
