BEGIN:VCALENDAR
VERSION:2.0
PRODID:-//https://www.fbcsheridan.org///NONSGML kigkonsult.se iCalcreator 2.10.15//
METHOD:PUBLISH
BEGIN:VEVENT
UID:20260423T203250UTC-0773aurVBo@https://www.fbcsheridan.org/
DTSTAMP:20260423T203250Z
DESCRIPTION: https://www.fbcsheridan.org/events/event/1168-sunday-morning-w
 orship-service
DTSTART:20480607T180000Z
DTEND:20480607T190000Z
LOCATION:Faith Baptist Church (4101 Riosa Road\, Sheridan\, CA 95681)
SUMMARY:Sunday Morning Worship Service
URL:https://www.fbcsheridan.org/events/event/1168-sunday-morning-worship-se
 rvice
END:VEVENT
BEGIN:VEVENT
UID:20260423T203250UTC-0775XFZn3R@https://www.fbcsheridan.org/
DTSTAMP:20260423T203250Z
DESCRIPTION: https://www.fbcsheridan.org/events/event/2420-sunday-school
DTSTART:20480607T170000Z
DTEND:20480607T180000Z
LOCATION:Faith Baptist Church (4101 Riosa Road\, Sheridan\, CA 95681)
SUMMARY:Sunday School
URL:https://www.fbcsheridan.org/events/event/2420-sunday-school
END:VEVENT
BEGIN:VEVENT
UID:20260423T203250UTC-0777Vfu1BW@https://www.fbcsheridan.org/
DTSTAMP:20260423T203250Z
DESCRIPTION: https://www.fbcsheridan.org/events/event/3673-sunday-evening-s
 ervice
DTSTART:20480608T000000Z
DTEND:20480608T010000Z
LOCATION:Faith Baptist Church (4101 Riosa Road\, Sheridan\, CA 95681)
SUMMARY:Sunday Evening Service
URL:https://www.fbcsheridan.org/events/event/3673-sunday-evening-service
END:VEVENT
END:VCALENDAR
