BEGIN:VCALENDAR
VERSION:2.0
PRODID:-//https://www.fbcsheridan.org///NONSGML kigkonsult.se iCalcreator 2.10.15//
METHOD:PUBLISH
BEGIN:VEVENT
UID:20260424T181037UTC-2375jeBuKU@https://www.fbcsheridan.org/
DTSTAMP:20260424T181037Z
DESCRIPTION: https://www.fbcsheridan.org/events/event/4978-wednesday-evenin
 g-service
DTSTART:20490610T020000Z
DTEND:20490610T030000Z
LOCATION:Faith Baptist Church (4101 Riosa Road\, Sheridan\, CA 95681)
SUMMARY:Wednesday Evening Service
URL:https://www.fbcsheridan.org/events/event/4978-wednesday-evening-service
END:VEVENT
END:VCALENDAR
