BEGIN:VCALENDAR
VERSION:2.0
PRODID:-//https://www.fbcsheridan.org///NONSGML kigkonsult.se iCalcreator 2.10.15//
METHOD:PUBLISH
BEGIN:VEVENT
UID:20260422T080647UTC-5153Z8tp7t@https://www.fbcsheridan.org/
DTSTAMP:20260422T080647Z
DESCRIPTION: https://www.fbcsheridan.org/events/event/4822-wednesday-evenin
 g-service
DTSTART:20460614T020000Z
DTEND:20460614T030000Z
LOCATION:Faith Baptist Church (4101 Riosa Road\, Sheridan\, CA 95681)
SUMMARY:Wednesday Evening Service
URL:https://www.fbcsheridan.org/events/event/4822-wednesday-evening-service
END:VEVENT
END:VCALENDAR
