BEGIN:VCALENDAR
VERSION:2.0
PRODID:-//https://www.fbcsheridan.org///NONSGML kigkonsult.se iCalcreator 2.10.15//
METHOD:PUBLISH
BEGIN:VEVENT
UID:20260420T204413UTC-9632V7SOBs@https://www.fbcsheridan.org/
DTSTAMP:20260420T204413Z
DESCRIPTION: https://www.fbcsheridan.org/events/event/961-sunday-morning-wo
 rship-service
DTSTART:20440619T180000Z
DTEND:20440619T190000Z
LOCATION:Faith Baptist Church (4101 Riosa Road\, Sheridan\, CA 95681)
SUMMARY:Sunday Morning Worship Service
URL:https://www.fbcsheridan.org/events/event/961-sunday-morning-worship-ser
 vice
END:VEVENT
BEGIN:VEVENT
UID:20260420T204413UTC-9633trv0zE@https://www.fbcsheridan.org/
DTSTAMP:20260420T204413Z
DESCRIPTION: https://www.fbcsheridan.org/events/event/2213-sunday-school
DTSTART:20440619T170000Z
DTEND:20440619T180000Z
LOCATION:Faith Baptist Church (4101 Riosa Road\, Sheridan\, CA 95681)
SUMMARY:Sunday School
URL:https://www.fbcsheridan.org/events/event/2213-sunday-school
END:VEVENT
BEGIN:VEVENT
UID:20260420T204413UTC-9634OBGTz2@https://www.fbcsheridan.org/
DTSTAMP:20260420T204413Z
DESCRIPTION: https://www.fbcsheridan.org/events/event/3466-sunday-evening-s
 ervice
DTSTART:20440620T000000Z
DTEND:20440620T010000Z
LOCATION:Faith Baptist Church (4101 Riosa Road\, Sheridan\, CA 95681)
SUMMARY:Sunday Evening Service
URL:https://www.fbcsheridan.org/events/event/3466-sunday-evening-service
END:VEVENT
END:VCALENDAR
