BEGIN:VCALENDAR
VERSION:2.0
PRODID:-//https://www.fbcsheridan.org///NONSGML kigkonsult.se iCalcreator 2.10.15//
METHOD:PUBLISH
BEGIN:VEVENT
UID:20260423T023654UTC-75508ldezM@https://www.fbcsheridan.org/
DTSTAMP:20260423T023654Z
DESCRIPTION: https://www.fbcsheridan.org/events/event/1118-sunday-morning-w
 orship-service
DTSTART:20470623T180000Z
DTEND:20470623T190000Z
LOCATION:Faith Baptist Church (4101 Riosa Road\, Sheridan\, CA 95681)
SUMMARY:Sunday Morning Worship Service
URL:https://www.fbcsheridan.org/events/event/1118-sunday-morning-worship-se
 rvice
END:VEVENT
BEGIN:VEVENT
UID:20260423T023654UTC-7552V3ZR2l@https://www.fbcsheridan.org/
DTSTAMP:20260423T023654Z
DESCRIPTION: https://www.fbcsheridan.org/events/event/2370-sunday-school
DTSTART:20470623T170000Z
DTEND:20470623T180000Z
LOCATION:Faith Baptist Church (4101 Riosa Road\, Sheridan\, CA 95681)
SUMMARY:Sunday School
URL:https://www.fbcsheridan.org/events/event/2370-sunday-school
END:VEVENT
BEGIN:VEVENT
UID:20260423T023654UTC-7553uwMu3u@https://www.fbcsheridan.org/
DTSTAMP:20260423T023654Z
DESCRIPTION: https://www.fbcsheridan.org/events/event/3623-sunday-evening-s
 ervice
DTSTART:20470624T000000Z
DTEND:20470624T010000Z
LOCATION:Faith Baptist Church (4101 Riosa Road\, Sheridan\, CA 95681)
SUMMARY:Sunday Evening Service
URL:https://www.fbcsheridan.org/events/event/3623-sunday-evening-service
END:VEVENT
END:VCALENDAR
