BEGIN:VCALENDAR
VERSION:2.0
PRODID:-//https://www.fbcsheridan.org///NONSGML kigkonsult.se iCalcreator 2.10.15//
METHOD:PUBLISH
BEGIN:VEVENT
UID:20260422T080529UTC-8092k4pO2a@https://www.fbcsheridan.org/
DTSTAMP:20260422T080529Z
DESCRIPTION: https://www.fbcsheridan.org/events/event/1066-sunday-morning-w
 orship-service
DTSTART:20460624T180000Z
DTEND:20460624T190000Z
LOCATION:Faith Baptist Church (4101 Riosa Road\, Sheridan\, CA 95681)
SUMMARY:Sunday Morning Worship Service
URL:https://www.fbcsheridan.org/events/event/1066-sunday-morning-worship-se
 rvice
END:VEVENT
BEGIN:VEVENT
UID:20260422T080529UTC-8093vG4elK@https://www.fbcsheridan.org/
DTSTAMP:20260422T080529Z
DESCRIPTION: https://www.fbcsheridan.org/events/event/2318-sunday-school
DTSTART:20460624T170000Z
DTEND:20460624T180000Z
LOCATION:Faith Baptist Church (4101 Riosa Road\, Sheridan\, CA 95681)
SUMMARY:Sunday School
URL:https://www.fbcsheridan.org/events/event/2318-sunday-school
END:VEVENT
BEGIN:VEVENT
UID:20260422T080529UTC-8094V3v6lP@https://www.fbcsheridan.org/
DTSTAMP:20260422T080529Z
DESCRIPTION: https://www.fbcsheridan.org/events/event/3571-sunday-evening-s
 ervice
DTSTART:20460625T000000Z
DTEND:20460625T010000Z
LOCATION:Faith Baptist Church (4101 Riosa Road\, Sheridan\, CA 95681)
SUMMARY:Sunday Evening Service
URL:https://www.fbcsheridan.org/events/event/3571-sunday-evening-service
END:VEVENT
END:VCALENDAR
