BEGIN:VCALENDAR
VERSION:2.0
PRODID:-//https://www.fbcsheridan.org///NONSGML kigkonsult.se iCalcreator 2.10.15//
METHOD:PUBLISH
BEGIN:VEVENT
UID:20260420T204425UTC-0744E6cSM3@https://www.fbcsheridan.org/
DTSTAMP:20260420T204425Z
DESCRIPTION: https://www.fbcsheridan.org/events/event/962-sunday-morning-wo
 rship-service
DTSTART:20440626T180000Z
DTEND:20440626T190000Z
LOCATION:Faith Baptist Church (4101 Riosa Road\, Sheridan\, CA 95681)
SUMMARY:Sunday Morning Worship Service
URL:https://www.fbcsheridan.org/events/event/962-sunday-morning-worship-ser
 vice
END:VEVENT
BEGIN:VEVENT
UID:20260420T204425UTC-0745Tb4pw7@https://www.fbcsheridan.org/
DTSTAMP:20260420T204425Z
DESCRIPTION: https://www.fbcsheridan.org/events/event/2214-sunday-school
DTSTART:20440626T170000Z
DTEND:20440626T180000Z
LOCATION:Faith Baptist Church (4101 Riosa Road\, Sheridan\, CA 95681)
SUMMARY:Sunday School
URL:https://www.fbcsheridan.org/events/event/2214-sunday-school
END:VEVENT
BEGIN:VEVENT
UID:20260420T204425UTC-0746zPVoTV@https://www.fbcsheridan.org/
DTSTAMP:20260420T204425Z
DESCRIPTION: https://www.fbcsheridan.org/events/event/3467-sunday-evening-s
 ervice
DTSTART:20440627T000000Z
DTEND:20440627T010000Z
LOCATION:Faith Baptist Church (4101 Riosa Road\, Sheridan\, CA 95681)
SUMMARY:Sunday Evening Service
URL:https://www.fbcsheridan.org/events/event/3467-sunday-evening-service
END:VEVENT
END:VCALENDAR
