BEGIN:VCALENDAR
VERSION:2.0
PRODID:-//https://www.fbcsheridan.org///NONSGML kigkonsult.se iCalcreator 2.10.15//
METHOD:PUBLISH
BEGIN:VEVENT
UID:20260422T093053UTC-5201pk4FeT@https://www.fbcsheridan.org/
DTSTAMP:20260422T093053Z
DESCRIPTION: https://www.fbcsheridan.org/events/event/1067-sunday-morning-w
 orship-service
DTSTART:20460701T180000Z
DTEND:20460701T190000Z
LOCATION:Faith Baptist Church (4101 Riosa Road\, Sheridan\, CA 95681)
SUMMARY:Sunday Morning Worship Service
URL:https://www.fbcsheridan.org/events/event/1067-sunday-morning-worship-se
 rvice
END:VEVENT
BEGIN:VEVENT
UID:20260422T093053UTC-52024iCAc2@https://www.fbcsheridan.org/
DTSTAMP:20260422T093053Z
DESCRIPTION: https://www.fbcsheridan.org/events/event/2319-sunday-school
DTSTART:20460701T170000Z
DTEND:20460701T180000Z
LOCATION:Faith Baptist Church (4101 Riosa Road\, Sheridan\, CA 95681)
SUMMARY:Sunday School
URL:https://www.fbcsheridan.org/events/event/2319-sunday-school
END:VEVENT
BEGIN:VEVENT
UID:20260422T093053UTC-5203vRK9h3@https://www.fbcsheridan.org/
DTSTAMP:20260422T093053Z
DESCRIPTION: https://www.fbcsheridan.org/events/event/3572-sunday-evening-s
 ervice
DTSTART:20460702T000000Z
DTEND:20460702T010000Z
LOCATION:Faith Baptist Church (4101 Riosa Road\, Sheridan\, CA 95681)
SUMMARY:Sunday Evening Service
URL:https://www.fbcsheridan.org/events/event/3572-sunday-evening-service
END:VEVENT
END:VCALENDAR
