BEGIN:VCALENDAR
VERSION:2.0
PRODID:-//https://www.fbcsheridan.org///NONSGML kigkonsult.se iCalcreator 2.10.15//
METHOD:PUBLISH
BEGIN:VEVENT
UID:20260421T150824UTC-3641AdJjcA@https://www.fbcsheridan.org/
DTSTAMP:20260421T150824Z
DESCRIPTION: https://www.fbcsheridan.org/events/event/1015-sunday-morning-w
 orship-service
DTSTART:20450702T180000Z
DTEND:20450702T190000Z
LOCATION:Faith Baptist Church (4101 Riosa Road\, Sheridan\, CA 95681)
SUMMARY:Sunday Morning Worship Service
URL:https://www.fbcsheridan.org/events/event/1015-sunday-morning-worship-se
 rvice
END:VEVENT
BEGIN:VEVENT
UID:20260421T150824UTC-3642u6Tn45@https://www.fbcsheridan.org/
DTSTAMP:20260421T150824Z
DESCRIPTION: https://www.fbcsheridan.org/events/event/2267-sunday-school
DTSTART:20450702T170000Z
DTEND:20450702T180000Z
LOCATION:Faith Baptist Church (4101 Riosa Road\, Sheridan\, CA 95681)
SUMMARY:Sunday School
URL:https://www.fbcsheridan.org/events/event/2267-sunday-school
END:VEVENT
BEGIN:VEVENT
UID:20260421T150824UTC-36432JPmvT@https://www.fbcsheridan.org/
DTSTAMP:20260421T150824Z
DESCRIPTION: https://www.fbcsheridan.org/events/event/3520-sunday-evening-s
 ervice
DTSTART:20450703T000000Z
DTEND:20450703T010000Z
LOCATION:Faith Baptist Church (4101 Riosa Road\, Sheridan\, CA 95681)
SUMMARY:Sunday Evening Service
URL:https://www.fbcsheridan.org/events/event/3520-sunday-evening-service
END:VEVENT
END:VCALENDAR
