BEGIN:VCALENDAR
VERSION:2.0
PRODID:-//https://www.fbcsheridan.org///NONSGML kigkonsult.se iCalcreator 2.10.15//
METHOD:PUBLISH
BEGIN:VEVENT
UID:20260424T193526UTC-5739ufg8Gb@https://www.fbcsheridan.org/
DTSTAMP:20260424T193526Z
DESCRIPTION: https://www.fbcsheridan.org/events/event/1224-sunday-morning-w
 orship-service
DTSTART:20490704T180000Z
DTEND:20490704T190000Z
LOCATION:Faith Baptist Church (4101 Riosa Road\, Sheridan\, CA 95681)
SUMMARY:Sunday Morning Worship Service
URL:https://www.fbcsheridan.org/events/event/1224-sunday-morning-worship-se
 rvice
END:VEVENT
BEGIN:VEVENT
UID:20260424T193526UTC-57407iEhgr@https://www.fbcsheridan.org/
DTSTAMP:20260424T193526Z
DESCRIPTION: https://www.fbcsheridan.org/events/event/2476-sunday-school
DTSTART:20490704T170000Z
DTEND:20490704T180000Z
LOCATION:Faith Baptist Church (4101 Riosa Road\, Sheridan\, CA 95681)
SUMMARY:Sunday School
URL:https://www.fbcsheridan.org/events/event/2476-sunday-school
END:VEVENT
BEGIN:VEVENT
UID:20260424T193526UTC-5741hPRwv0@https://www.fbcsheridan.org/
DTSTAMP:20260424T193526Z
DESCRIPTION: https://www.fbcsheridan.org/events/event/3729-sunday-evening-s
 ervice
DTSTART:20490705T000000Z
DTEND:20490705T010000Z
LOCATION:Faith Baptist Church (4101 Riosa Road\, Sheridan\, CA 95681)
SUMMARY:Sunday Evening Service
URL:https://www.fbcsheridan.org/events/event/3729-sunday-evening-service
END:VEVENT
END:VCALENDAR
