BEGIN:VCALENDAR
VERSION:2.0
PRODID:-//https://www.fbcsheridan.org///NONSGML kigkonsult.se iCalcreator 2.10.15//
METHOD:PUBLISH
BEGIN:VEVENT
UID:20260419T131429UTC-1143ajuNsI@https://www.fbcsheridan.org/
DTSTAMP:20260419T131429Z
DESCRIPTION: https://www.fbcsheridan.org/events/event/859-sunday-morning-wo
 rship-service
DTSTART:20420706T180000Z
DTEND:20420706T190000Z
LOCATION:Faith Baptist Church (4101 Riosa Road\, Sheridan\, CA 95681)
SUMMARY:Sunday Morning Worship Service
URL:https://www.fbcsheridan.org/events/event/859-sunday-morning-worship-ser
 vice
END:VEVENT
BEGIN:VEVENT
UID:20260419T131429UTC-1144jeOiPF@https://www.fbcsheridan.org/
DTSTAMP:20260419T131429Z
DESCRIPTION: https://www.fbcsheridan.org/events/event/2111-sunday-school
DTSTART:20420706T170000Z
DTEND:20420706T180000Z
LOCATION:Faith Baptist Church (4101 Riosa Road\, Sheridan\, CA 95681)
SUMMARY:Sunday School
URL:https://www.fbcsheridan.org/events/event/2111-sunday-school
END:VEVENT
BEGIN:VEVENT
UID:20260419T131429UTC-1145vJOvBL@https://www.fbcsheridan.org/
DTSTAMP:20260419T131429Z
DESCRIPTION: https://www.fbcsheridan.org/events/event/3364-sunday-evening-s
 ervice
DTSTART:20420707T000000Z
DTEND:20420707T010000Z
LOCATION:Faith Baptist Church (4101 Riosa Road\, Sheridan\, CA 95681)
SUMMARY:Sunday Evening Service
URL:https://www.fbcsheridan.org/events/event/3364-sunday-evening-service
END:VEVENT
END:VCALENDAR
