BEGIN:VCALENDAR
VERSION:2.0
PRODID:-//https://www.fbcsheridan.org///NONSGML kigkonsult.se iCalcreator 2.10.15//
METHOD:PUBLISH
BEGIN:VEVENT
UID:20260423T035914UTC-5429Re6Imh@https://www.fbcsheridan.org/
DTSTAMP:20260423T035914Z
DESCRIPTION: https://www.fbcsheridan.org/events/event/1120-sunday-morning-w
 orship-service
DTSTART:20470707T180000Z
DTEND:20470707T190000Z
LOCATION:Faith Baptist Church (4101 Riosa Road\, Sheridan\, CA 95681)
SUMMARY:Sunday Morning Worship Service
URL:https://www.fbcsheridan.org/events/event/1120-sunday-morning-worship-se
 rvice
END:VEVENT
BEGIN:VEVENT
UID:20260423T035914UTC-5431UVF6LL@https://www.fbcsheridan.org/
DTSTAMP:20260423T035914Z
DESCRIPTION: https://www.fbcsheridan.org/events/event/2372-sunday-school
DTSTART:20470707T170000Z
DTEND:20470707T180000Z
LOCATION:Faith Baptist Church (4101 Riosa Road\, Sheridan\, CA 95681)
SUMMARY:Sunday School
URL:https://www.fbcsheridan.org/events/event/2372-sunday-school
END:VEVENT
BEGIN:VEVENT
UID:20260423T035914UTC-5432COoGZW@https://www.fbcsheridan.org/
DTSTAMP:20260423T035914Z
DESCRIPTION: https://www.fbcsheridan.org/events/event/3625-sunday-evening-s
 ervice
DTSTART:20470708T000000Z
DTEND:20470708T010000Z
LOCATION:Faith Baptist Church (4101 Riosa Road\, Sheridan\, CA 95681)
SUMMARY:Sunday Evening Service
URL:https://www.fbcsheridan.org/events/event/3625-sunday-evening-service
END:VEVENT
END:VCALENDAR
