BEGIN:VCALENDAR
VERSION:2.0
PRODID:-//https://www.fbcsheridan.org///NONSGML kigkonsult.se iCalcreator 2.10.15//
METHOD:PUBLISH
BEGIN:VEVENT
UID:20260421T151020UTC-5489rBhdRB@https://www.fbcsheridan.org/
DTSTAMP:20260421T151020Z
DESCRIPTION: https://www.fbcsheridan.org/events/event/1016-sunday-morning-w
 orship-service
DTSTART:20450709T180000Z
DTEND:20450709T190000Z
LOCATION:Faith Baptist Church (4101 Riosa Road\, Sheridan\, CA 95681)
SUMMARY:Sunday Morning Worship Service
URL:https://www.fbcsheridan.org/events/event/1016-sunday-morning-worship-se
 rvice
END:VEVENT
BEGIN:VEVENT
UID:20260421T151020UTC-5491tDOhUS@https://www.fbcsheridan.org/
DTSTAMP:20260421T151020Z
DESCRIPTION: https://www.fbcsheridan.org/events/event/2268-sunday-school
DTSTART:20450709T170000Z
DTEND:20450709T180000Z
LOCATION:Faith Baptist Church (4101 Riosa Road\, Sheridan\, CA 95681)
SUMMARY:Sunday School
URL:https://www.fbcsheridan.org/events/event/2268-sunday-school
END:VEVENT
BEGIN:VEVENT
UID:20260421T151020UTC-5492X6tAX1@https://www.fbcsheridan.org/
DTSTAMP:20260421T151020Z
DESCRIPTION: https://www.fbcsheridan.org/events/event/3521-sunday-evening-s
 ervice
DTSTART:20450710T000000Z
DTEND:20450710T010000Z
LOCATION:Faith Baptist Church (4101 Riosa Road\, Sheridan\, CA 95681)
SUMMARY:Sunday Evening Service
URL:https://www.fbcsheridan.org/events/event/3521-sunday-evening-service
END:VEVENT
END:VCALENDAR
