BEGIN:VCALENDAR
VERSION:2.0
PRODID:-//https://www.fbcsheridan.org///NONSGML kigkonsult.se iCalcreator 2.10.15//
METHOD:PUBLISH
BEGIN:VEVENT
UID:20260421T151745UTC-21375jRURx@https://www.fbcsheridan.org/
DTSTAMP:20260421T151745Z
DESCRIPTION: https://www.fbcsheridan.org/events/event/1017-sunday-morning-w
 orship-service
DTSTART:20450716T180000Z
DTEND:20450716T190000Z
LOCATION:Faith Baptist Church (4101 Riosa Road\, Sheridan\, CA 95681)
SUMMARY:Sunday Morning Worship Service
URL:https://www.fbcsheridan.org/events/event/1017-sunday-morning-worship-se
 rvice
END:VEVENT
BEGIN:VEVENT
UID:20260421T151745UTC-2139OmmgXB@https://www.fbcsheridan.org/
DTSTAMP:20260421T151745Z
DESCRIPTION: https://www.fbcsheridan.org/events/event/2269-sunday-school
DTSTART:20450716T170000Z
DTEND:20450716T180000Z
LOCATION:Faith Baptist Church (4101 Riosa Road\, Sheridan\, CA 95681)
SUMMARY:Sunday School
URL:https://www.fbcsheridan.org/events/event/2269-sunday-school
END:VEVENT
BEGIN:VEVENT
UID:20260421T151745UTC-2140XSpWZi@https://www.fbcsheridan.org/
DTSTAMP:20260421T151745Z
DESCRIPTION: https://www.fbcsheridan.org/events/event/3522-sunday-evening-s
 ervice
DTSTART:20450717T000000Z
DTEND:20450717T010000Z
LOCATION:Faith Baptist Church (4101 Riosa Road\, Sheridan\, CA 95681)
SUMMARY:Sunday Evening Service
URL:https://www.fbcsheridan.org/events/event/3522-sunday-evening-service
END:VEVENT
END:VCALENDAR
