BEGIN:VCALENDAR
VERSION:2.0
PRODID:-//https://www.fbcsheridan.org///NONSGML kigkonsult.se iCalcreator 2.10.15//
METHOD:PUBLISH
BEGIN:VEVENT
UID:20260424T193633UTC-5366NE0LeZ@https://www.fbcsheridan.org/
DTSTAMP:20260424T193633Z
DESCRIPTION: https://www.fbcsheridan.org/events/event/1226-sunday-morning-w
 orship-service
DTSTART:20490718T180000Z
DTEND:20490718T190000Z
LOCATION:Faith Baptist Church (4101 Riosa Road\, Sheridan\, CA 95681)
SUMMARY:Sunday Morning Worship Service
URL:https://www.fbcsheridan.org/events/event/1226-sunday-morning-worship-se
 rvice
END:VEVENT
BEGIN:VEVENT
UID:20260424T193633UTC-53672XjIZ5@https://www.fbcsheridan.org/
DTSTAMP:20260424T193633Z
DESCRIPTION: https://www.fbcsheridan.org/events/event/2478-sunday-school
DTSTART:20490718T170000Z
DTEND:20490718T180000Z
LOCATION:Faith Baptist Church (4101 Riosa Road\, Sheridan\, CA 95681)
SUMMARY:Sunday School
URL:https://www.fbcsheridan.org/events/event/2478-sunday-school
END:VEVENT
BEGIN:VEVENT
UID:20260424T193633UTC-5368cab4U2@https://www.fbcsheridan.org/
DTSTAMP:20260424T193633Z
DESCRIPTION: https://www.fbcsheridan.org/events/event/3731-sunday-evening-s
 ervice
DTSTART:20490719T000000Z
DTEND:20490719T010000Z
LOCATION:Faith Baptist Church (4101 Riosa Road\, Sheridan\, CA 95681)
SUMMARY:Sunday Evening Service
URL:https://www.fbcsheridan.org/events/event/3731-sunday-evening-service
END:VEVENT
END:VCALENDAR
