BEGIN:VCALENDAR
VERSION:2.0
PRODID:-//https://www.fbcsheridan.org///NONSGML kigkonsult.se iCalcreator 2.10.15//
METHOD:PUBLISH
BEGIN:VEVENT
UID:20260420T221327UTC-2240n17UAt@https://www.fbcsheridan.org/
DTSTAMP:20260420T221327Z
DESCRIPTION: https://www.fbcsheridan.org/events/event/4723-wednesday-evenin
 g-service
DTSTART:20440721T020000Z
DTEND:20440721T030000Z
LOCATION:Faith Baptist Church (4101 Riosa Road\, Sheridan\, CA 95681)
SUMMARY:Wednesday Evening Service
URL:https://www.fbcsheridan.org/events/event/4723-wednesday-evening-service
END:VEVENT
END:VCALENDAR
