BEGIN:VCALENDAR
VERSION:2.0
PRODID:-//https://www.fbcsheridan.org///NONSGML kigkonsult.se iCalcreator 2.10.15//
METHOD:PUBLISH
BEGIN:VEVENT
UID:20260420T043250UTC-0085Slgswm@https://www.fbcsheridan.org/
DTSTAMP:20260420T043250Z
DESCRIPTION: https://www.fbcsheridan.org/events/event/4671-wednesday-evenin
 g-service
DTSTART:20430723T020000Z
DTEND:20430723T030000Z
LOCATION:Faith Baptist Church (4101 Riosa Road\, Sheridan\, CA 95681)
SUMMARY:Wednesday Evening Service
URL:https://www.fbcsheridan.org/events/event/4671-wednesday-evening-service
END:VEVENT
END:VCALENDAR
