BEGIN:VCALENDAR
VERSION:2.0
PRODID:-//https://www.fbcsheridan.org///NONSGML kigkonsult.se iCalcreator 2.10.15//
METHOD:PUBLISH
BEGIN:VEVENT
UID:20260421T150955UTC-7147bU9kBf@https://www.fbcsheridan.org/
DTSTAMP:20260421T150955Z
DESCRIPTION: https://www.fbcsheridan.org/events/event/1018-sunday-morning-w
 orship-service
DTSTART:20450723T180000Z
DTEND:20450723T190000Z
LOCATION:Faith Baptist Church (4101 Riosa Road\, Sheridan\, CA 95681)
SUMMARY:Sunday Morning Worship Service
URL:https://www.fbcsheridan.org/events/event/1018-sunday-morning-worship-se
 rvice
END:VEVENT
BEGIN:VEVENT
UID:20260421T150955UTC-71497ZVCCS@https://www.fbcsheridan.org/
DTSTAMP:20260421T150955Z
DESCRIPTION: https://www.fbcsheridan.org/events/event/2270-sunday-school
DTSTART:20450723T170000Z
DTEND:20450723T180000Z
LOCATION:Faith Baptist Church (4101 Riosa Road\, Sheridan\, CA 95681)
SUMMARY:Sunday School
URL:https://www.fbcsheridan.org/events/event/2270-sunday-school
END:VEVENT
BEGIN:VEVENT
UID:20260421T150955UTC-7149XU3XRg@https://www.fbcsheridan.org/
DTSTAMP:20260421T150955Z
DESCRIPTION: https://www.fbcsheridan.org/events/event/3523-sunday-evening-s
 ervice
DTSTART:20450724T000000Z
DTEND:20450724T010000Z
LOCATION:Faith Baptist Church (4101 Riosa Road\, Sheridan\, CA 95681)
SUMMARY:Sunday Evening Service
URL:https://www.fbcsheridan.org/events/event/3523-sunday-evening-service
END:VEVENT
END:VCALENDAR
