BEGIN:VCALENDAR
VERSION:2.0
PRODID:-//https://www.fbcsheridan.org///NONSGML kigkonsult.se iCalcreator 2.10.15//
METHOD:PUBLISH
BEGIN:VEVENT
UID:20260420T221445UTC-3312TauO52@https://www.fbcsheridan.org/
DTSTAMP:20260420T221445Z
DESCRIPTION: https://www.fbcsheridan.org/events/event/4724-wednesday-evenin
 g-service
DTSTART:20440728T020000Z
DTEND:20440728T030000Z
LOCATION:Faith Baptist Church (4101 Riosa Road\, Sheridan\, CA 95681)
SUMMARY:Wednesday Evening Service
URL:https://www.fbcsheridan.org/events/event/4724-wednesday-evening-service
END:VEVENT
END:VCALENDAR
