BEGIN:VCALENDAR
VERSION:2.0
PRODID:-//https://www.fbcsheridan.org///NONSGML kigkonsult.se iCalcreator 2.10.15//
METHOD:PUBLISH
BEGIN:VEVENT
UID:20260423T035919UTC-7854WpjVeZ@https://www.fbcsheridan.org/
DTSTAMP:20260423T035919Z
DESCRIPTION: https://www.fbcsheridan.org/events/event/1123-sunday-morning-w
 orship-service
DTSTART:20470728T180000Z
DTEND:20470728T190000Z
LOCATION:Faith Baptist Church (4101 Riosa Road\, Sheridan\, CA 95681)
SUMMARY:Sunday Morning Worship Service
URL:https://www.fbcsheridan.org/events/event/1123-sunday-morning-worship-se
 rvice
END:VEVENT
BEGIN:VEVENT
UID:20260423T035919UTC-78560xcK51@https://www.fbcsheridan.org/
DTSTAMP:20260423T035919Z
DESCRIPTION: https://www.fbcsheridan.org/events/event/2375-sunday-school
DTSTART:20470728T170000Z
DTEND:20470728T180000Z
LOCATION:Faith Baptist Church (4101 Riosa Road\, Sheridan\, CA 95681)
SUMMARY:Sunday School
URL:https://www.fbcsheridan.org/events/event/2375-sunday-school
END:VEVENT
BEGIN:VEVENT
UID:20260423T035919UTC-78573h0vZF@https://www.fbcsheridan.org/
DTSTAMP:20260423T035919Z
DESCRIPTION: https://www.fbcsheridan.org/events/event/3628-sunday-evening-s
 ervice
DTSTART:20470729T000000Z
DTEND:20470729T010000Z
LOCATION:Faith Baptist Church (4101 Riosa Road\, Sheridan\, CA 95681)
SUMMARY:Sunday Evening Service
URL:https://www.fbcsheridan.org/events/event/3628-sunday-evening-service
END:VEVENT
END:VCALENDAR
