BEGIN:VCALENDAR
VERSION:2.0
PRODID:-//https://www.fbcsheridan.org///NONSGML kigkonsult.se iCalcreator 2.10.15//
METHOD:PUBLISH
BEGIN:VEVENT
UID:20260424T193625UTC-7639lcb3Fe@https://www.fbcsheridan.org/
DTSTAMP:20260424T193625Z
DESCRIPTION: https://www.fbcsheridan.org/events/event/4985-wednesday-evenin
 g-service
DTSTART:20490729T020000Z
DTEND:20490729T030000Z
LOCATION:Faith Baptist Church (4101 Riosa Road\, Sheridan\, CA 95681)
SUMMARY:Wednesday Evening Service
URL:https://www.fbcsheridan.org/events/event/4985-wednesday-evening-service
END:VEVENT
END:VCALENDAR
