BEGIN:VCALENDAR
VERSION:2.0
PRODID:-//https://www.fbcsheridan.org///NONSGML kigkonsult.se iCalcreator 2.10.15//
METHOD:PUBLISH
BEGIN:VEVENT
UID:20260420T221409UTC-7207wsd8mm@https://www.fbcsheridan.org/
DTSTAMP:20260420T221409Z
DESCRIPTION: https://www.fbcsheridan.org/events/event/967-sunday-morning-wo
 rship-service
DTSTART:20440731T180000Z
DTEND:20440731T190000Z
LOCATION:Faith Baptist Church (4101 Riosa Road\, Sheridan\, CA 95681)
SUMMARY:Sunday Morning Worship Service
URL:https://www.fbcsheridan.org/events/event/967-sunday-morning-worship-ser
 vice
END:VEVENT
BEGIN:VEVENT
UID:20260420T221409UTC-72084o0e8F@https://www.fbcsheridan.org/
DTSTAMP:20260420T221409Z
DESCRIPTION: https://www.fbcsheridan.org/events/event/2219-sunday-school
DTSTART:20440731T170000Z
DTEND:20440731T180000Z
LOCATION:Faith Baptist Church (4101 Riosa Road\, Sheridan\, CA 95681)
SUMMARY:Sunday School
URL:https://www.fbcsheridan.org/events/event/2219-sunday-school
END:VEVENT
BEGIN:VEVENT
UID:20260420T221409UTC-7209GooWvG@https://www.fbcsheridan.org/
DTSTAMP:20260420T221409Z
DESCRIPTION: https://www.fbcsheridan.org/events/event/3472-sunday-evening-s
 ervice
DTSTART:20440801T000000Z
DTEND:20440801T010000Z
LOCATION:Faith Baptist Church (4101 Riosa Road\, Sheridan\, CA 95681)
SUMMARY:Sunday Evening Service
URL:https://www.fbcsheridan.org/events/event/3472-sunday-evening-service
END:VEVENT
END:VCALENDAR
