BEGIN:VCALENDAR
VERSION:2.0
PRODID:-//https://www.fbcsheridan.org///NONSGML kigkonsult.se iCalcreator 2.10.15//
METHOD:PUBLISH
BEGIN:VEVENT
UID:20260420T061422UTC-8727thwzP4@https://www.fbcsheridan.org/
DTSTAMP:20260420T061422Z
DESCRIPTION: https://www.fbcsheridan.org/events/event/915-sunday-morning-wo
 rship-service
DTSTART:20430802T180000Z
DTEND:20430802T190000Z
LOCATION:Faith Baptist Church (4101 Riosa Road\, Sheridan\, CA 95681)
SUMMARY:Sunday Morning Worship Service
URL:https://www.fbcsheridan.org/events/event/915-sunday-morning-worship-ser
 vice
END:VEVENT
BEGIN:VEVENT
UID:20260420T061422UTC-8728XKOrt6@https://www.fbcsheridan.org/
DTSTAMP:20260420T061422Z
DESCRIPTION: https://www.fbcsheridan.org/events/event/2167-sunday-school
DTSTART:20430802T170000Z
DTEND:20430802T180000Z
LOCATION:Faith Baptist Church (4101 Riosa Road\, Sheridan\, CA 95681)
SUMMARY:Sunday School
URL:https://www.fbcsheridan.org/events/event/2167-sunday-school
END:VEVENT
BEGIN:VEVENT
UID:20260420T061422UTC-87295oxGta@https://www.fbcsheridan.org/
DTSTAMP:20260420T061422Z
DESCRIPTION: https://www.fbcsheridan.org/events/event/3420-sunday-evening-s
 ervice
DTSTART:20430803T000000Z
DTEND:20430803T010000Z
LOCATION:Faith Baptist Church (4101 Riosa Road\, Sheridan\, CA 95681)
SUMMARY:Sunday Evening Service
URL:https://www.fbcsheridan.org/events/event/3420-sunday-evening-service
END:VEVENT
END:VCALENDAR
