BEGIN:VCALENDAR
VERSION:2.0
PRODID:-//https://www.fbcsheridan.org///NONSGML kigkonsult.se iCalcreator 2.10.15//
METHOD:PUBLISH
BEGIN:VEVENT
UID:20260423T233510UTC-7634ZI7Hk6@https://www.fbcsheridan.org/
DTSTAMP:20260423T233510Z
DESCRIPTION: https://www.fbcsheridan.org/events/event/1176-sunday-morning-w
 orship-service
DTSTART:20480802T180000Z
DTEND:20480802T190000Z
LOCATION:Faith Baptist Church (4101 Riosa Road\, Sheridan\, CA 95681)
SUMMARY:Sunday Morning Worship Service
URL:https://www.fbcsheridan.org/events/event/1176-sunday-morning-worship-se
 rvice
END:VEVENT
BEGIN:VEVENT
UID:20260423T233510UTC-76368uGotG@https://www.fbcsheridan.org/
DTSTAMP:20260423T233510Z
DESCRIPTION: https://www.fbcsheridan.org/events/event/2428-sunday-school
DTSTART:20480802T170000Z
DTEND:20480802T180000Z
LOCATION:Faith Baptist Church (4101 Riosa Road\, Sheridan\, CA 95681)
SUMMARY:Sunday School
URL:https://www.fbcsheridan.org/events/event/2428-sunday-school
END:VEVENT
BEGIN:VEVENT
UID:20260423T233510UTC-7637xEILXP@https://www.fbcsheridan.org/
DTSTAMP:20260423T233510Z
DESCRIPTION: https://www.fbcsheridan.org/events/event/3681-sunday-evening-s
 ervice
DTSTART:20480803T000000Z
DTEND:20480803T010000Z
LOCATION:Faith Baptist Church (4101 Riosa Road\, Sheridan\, CA 95681)
SUMMARY:Sunday Evening Service
URL:https://www.fbcsheridan.org/events/event/3681-sunday-evening-service
END:VEVENT
END:VCALENDAR
