BEGIN:VCALENDAR
VERSION:2.0
PRODID:-//https://www.fbcsheridan.org///NONSGML kigkonsult.se iCalcreator 2.10.15//
METHOD:PUBLISH
BEGIN:VEVENT
UID:20260422T105220UTC-4603MbCi7L@https://www.fbcsheridan.org/
DTSTAMP:20260422T105220Z
DESCRIPTION: https://www.fbcsheridan.org/events/event/1072-sunday-morning-w
 orship-service
DTSTART:20460805T180000Z
DTEND:20460805T190000Z
LOCATION:Faith Baptist Church (4101 Riosa Road\, Sheridan\, CA 95681)
SUMMARY:Sunday Morning Worship Service
URL:https://www.fbcsheridan.org/events/event/1072-sunday-morning-worship-se
 rvice
END:VEVENT
BEGIN:VEVENT
UID:20260422T105220UTC-46044u77l6@https://www.fbcsheridan.org/
DTSTAMP:20260422T105220Z
DESCRIPTION: https://www.fbcsheridan.org/events/event/2324-sunday-school
DTSTART:20460805T170000Z
DTEND:20460805T180000Z
LOCATION:Faith Baptist Church (4101 Riosa Road\, Sheridan\, CA 95681)
SUMMARY:Sunday School
URL:https://www.fbcsheridan.org/events/event/2324-sunday-school
END:VEVENT
BEGIN:VEVENT
UID:20260422T105220UTC-4605JAwhZu@https://www.fbcsheridan.org/
DTSTAMP:20260422T105220Z
DESCRIPTION: https://www.fbcsheridan.org/events/event/3577-sunday-evening-s
 ervice
DTSTART:20460806T000000Z
DTEND:20460806T010000Z
LOCATION:Faith Baptist Church (4101 Riosa Road\, Sheridan\, CA 95681)
SUMMARY:Sunday Evening Service
URL:https://www.fbcsheridan.org/events/event/3577-sunday-evening-service
END:VEVENT
END:VCALENDAR
