BEGIN:VCALENDAR
VERSION:2.0
PRODID:-//https://www.fbcsheridan.org///NONSGML kigkonsult.se iCalcreator 2.10.15//
METHOD:PUBLISH
BEGIN:VEVENT
UID:20260420T061458UTC-1927SPHrx5@https://www.fbcsheridan.org/
DTSTAMP:20260420T061458Z
DESCRIPTION: https://www.fbcsheridan.org/events/event/916-sunday-morning-wo
 rship-service
DTSTART:20430809T180000Z
DTEND:20430809T190000Z
LOCATION:Faith Baptist Church (4101 Riosa Road\, Sheridan\, CA 95681)
SUMMARY:Sunday Morning Worship Service
URL:https://www.fbcsheridan.org/events/event/916-sunday-morning-worship-ser
 vice
END:VEVENT
BEGIN:VEVENT
UID:20260420T061458UTC-1929JvTmZk@https://www.fbcsheridan.org/
DTSTAMP:20260420T061458Z
DESCRIPTION: https://www.fbcsheridan.org/events/event/2168-sunday-school
DTSTART:20430809T170000Z
DTEND:20430809T180000Z
LOCATION:Faith Baptist Church (4101 Riosa Road\, Sheridan\, CA 95681)
SUMMARY:Sunday School
URL:https://www.fbcsheridan.org/events/event/2168-sunday-school
END:VEVENT
BEGIN:VEVENT
UID:20260420T061458UTC-1930d1ZMhi@https://www.fbcsheridan.org/
DTSTAMP:20260420T061458Z
DESCRIPTION: https://www.fbcsheridan.org/events/event/3421-sunday-evening-s
 ervice
DTSTART:20430810T000000Z
DTEND:20430810T010000Z
LOCATION:Faith Baptist Church (4101 Riosa Road\, Sheridan\, CA 95681)
SUMMARY:Sunday Evening Service
URL:https://www.fbcsheridan.org/events/event/3421-sunday-evening-service
END:VEVENT
END:VCALENDAR
