BEGIN:VCALENDAR
VERSION:2.0
PRODID:-//https://www.fbcsheridan.org///NONSGML kigkonsult.se iCalcreator 2.10.15//
METHOD:PUBLISH
BEGIN:VEVENT
UID:20260422T105259UTC-07825KK69k@https://www.fbcsheridan.org/
DTSTAMP:20260422T105259Z
DESCRIPTION: https://www.fbcsheridan.org/events/event/1073-sunday-morning-w
 orship-service
DTSTART:20460812T180000Z
DTEND:20460812T190000Z
LOCATION:Faith Baptist Church (4101 Riosa Road\, Sheridan\, CA 95681)
SUMMARY:Sunday Morning Worship Service
URL:https://www.fbcsheridan.org/events/event/1073-sunday-morning-worship-se
 rvice
END:VEVENT
BEGIN:VEVENT
UID:20260422T105259UTC-0783VuoVP1@https://www.fbcsheridan.org/
DTSTAMP:20260422T105259Z
DESCRIPTION: https://www.fbcsheridan.org/events/event/2325-sunday-school
DTSTART:20460812T170000Z
DTEND:20460812T180000Z
LOCATION:Faith Baptist Church (4101 Riosa Road\, Sheridan\, CA 95681)
SUMMARY:Sunday School
URL:https://www.fbcsheridan.org/events/event/2325-sunday-school
END:VEVENT
BEGIN:VEVENT
UID:20260422T105259UTC-0784dXr4ka@https://www.fbcsheridan.org/
DTSTAMP:20260422T105259Z
DESCRIPTION: https://www.fbcsheridan.org/events/event/3578-sunday-evening-s
 ervice
DTSTART:20460813T000000Z
DTEND:20460813T010000Z
LOCATION:Faith Baptist Church (4101 Riosa Road\, Sheridan\, CA 95681)
SUMMARY:Sunday Evening Service
URL:https://www.fbcsheridan.org/events/event/3578-sunday-evening-service
END:VEVENT
END:VCALENDAR
