BEGIN:VCALENDAR
VERSION:2.0
PRODID:-//https://www.fbcsheridan.org///NONSGML kigkonsult.se iCalcreator 2.10.15//
METHOD:PUBLISH
BEGIN:VEVENT
UID:20260420T233920UTC-4316huZ5Ol@https://www.fbcsheridan.org/
DTSTAMP:20260420T233920Z
DESCRIPTION: https://www.fbcsheridan.org/events/event/969-sunday-morning-wo
 rship-service
DTSTART:20440814T180000Z
DTEND:20440814T190000Z
LOCATION:Faith Baptist Church (4101 Riosa Road\, Sheridan\, CA 95681)
SUMMARY:Sunday Morning Worship Service
URL:https://www.fbcsheridan.org/events/event/969-sunday-morning-worship-ser
 vice
END:VEVENT
BEGIN:VEVENT
UID:20260420T233920UTC-4317nus8af@https://www.fbcsheridan.org/
DTSTAMP:20260420T233920Z
DESCRIPTION: https://www.fbcsheridan.org/events/event/2221-sunday-school
DTSTART:20440814T170000Z
DTEND:20440814T180000Z
LOCATION:Faith Baptist Church (4101 Riosa Road\, Sheridan\, CA 95681)
SUMMARY:Sunday School
URL:https://www.fbcsheridan.org/events/event/2221-sunday-school
END:VEVENT
BEGIN:VEVENT
UID:20260420T233920UTC-4318KvDD0p@https://www.fbcsheridan.org/
DTSTAMP:20260420T233920Z
DESCRIPTION: https://www.fbcsheridan.org/events/event/3474-sunday-evening-s
 ervice
DTSTART:20440815T000000Z
DTEND:20440815T010000Z
LOCATION:Faith Baptist Church (4101 Riosa Road\, Sheridan\, CA 95681)
SUMMARY:Sunday Evening Service
URL:https://www.fbcsheridan.org/events/event/3474-sunday-evening-service
END:VEVENT
END:VCALENDAR
