BEGIN:VCALENDAR
VERSION:2.0
PRODID:-//https://www.fbcsheridan.org///NONSGML kigkonsult.se iCalcreator 2.10.15//
METHOD:PUBLISH
BEGIN:VEVENT
UID:20260424T211252UTC-3076S5ezL6@https://www.fbcsheridan.org/
DTSTAMP:20260424T211252Z
DESCRIPTION: https://www.fbcsheridan.org/events/event/1230-sunday-morning-w
 orship-service
DTSTART:20490815T180000Z
DTEND:20490815T190000Z
LOCATION:Faith Baptist Church (4101 Riosa Road\, Sheridan\, CA 95681)
SUMMARY:Sunday Morning Worship Service
URL:https://www.fbcsheridan.org/events/event/1230-sunday-morning-worship-se
 rvice
END:VEVENT
BEGIN:VEVENT
UID:20260424T211252UTC-3078cBeU4K@https://www.fbcsheridan.org/
DTSTAMP:20260424T211252Z
DESCRIPTION: https://www.fbcsheridan.org/events/event/2482-sunday-school
DTSTART:20490815T170000Z
DTEND:20490815T180000Z
LOCATION:Faith Baptist Church (4101 Riosa Road\, Sheridan\, CA 95681)
SUMMARY:Sunday School
URL:https://www.fbcsheridan.org/events/event/2482-sunday-school
END:VEVENT
BEGIN:VEVENT
UID:20260424T211252UTC-3078jBAw5z@https://www.fbcsheridan.org/
DTSTAMP:20260424T211252Z
DESCRIPTION: https://www.fbcsheridan.org/events/event/3735-sunday-evening-s
 ervice
DTSTART:20490816T000000Z
DTEND:20490816T010000Z
LOCATION:Faith Baptist Church (4101 Riosa Road\, Sheridan\, CA 95681)
SUMMARY:Sunday Evening Service
URL:https://www.fbcsheridan.org/events/event/3735-sunday-evening-service
END:VEVENT
END:VCALENDAR
