BEGIN:VCALENDAR
VERSION:2.0
PRODID:-//https://www.fbcsheridan.org///NONSGML kigkonsult.se iCalcreator 2.10.15//
METHOD:PUBLISH
BEGIN:VEVENT
UID:20260419T130844UTC-7225d2mkWT@https://www.fbcsheridan.org/
DTSTAMP:20260419T130844Z
DESCRIPTION: https://www.fbcsheridan.org/events/event/865-sunday-morning-wo
 rship-service
DTSTART:20420817T180000Z
DTEND:20420817T190000Z
LOCATION:Faith Baptist Church (4101 Riosa Road\, Sheridan\, CA 95681)
SUMMARY:Sunday Morning Worship Service
URL:https://www.fbcsheridan.org/events/event/865-sunday-morning-worship-ser
 vice
END:VEVENT
BEGIN:VEVENT
UID:20260419T130844UTC-7226V4TgHu@https://www.fbcsheridan.org/
DTSTAMP:20260419T130844Z
DESCRIPTION: https://www.fbcsheridan.org/events/event/2117-sunday-school
DTSTART:20420817T170000Z
DTEND:20420817T180000Z
LOCATION:Faith Baptist Church (4101 Riosa Road\, Sheridan\, CA 95681)
SUMMARY:Sunday School
URL:https://www.fbcsheridan.org/events/event/2117-sunday-school
END:VEVENT
BEGIN:VEVENT
UID:20260419T130844UTC-7227vb3V32@https://www.fbcsheridan.org/
DTSTAMP:20260419T130844Z
DESCRIPTION: https://www.fbcsheridan.org/events/event/3370-sunday-evening-s
 ervice
DTSTART:20420818T000000Z
DTEND:20420818T010000Z
LOCATION:Faith Baptist Church (4101 Riosa Road\, Sheridan\, CA 95681)
SUMMARY:Sunday Evening Service
URL:https://www.fbcsheridan.org/events/event/3370-sunday-evening-service
END:VEVENT
END:VCALENDAR
