BEGIN:VCALENDAR
VERSION:2.0
PRODID:-//https://www.fbcsheridan.org///NONSGML kigkonsult.se iCalcreator 2.10.15//
METHOD:PUBLISH
BEGIN:VEVENT
UID:20260422T105229UTC-1237Td0bLU@https://www.fbcsheridan.org/
DTSTAMP:20260422T105229Z
DESCRIPTION: https://www.fbcsheridan.org/events/event/1074-sunday-morning-w
 orship-service
DTSTART:20460819T180000Z
DTEND:20460819T190000Z
LOCATION:Faith Baptist Church (4101 Riosa Road\, Sheridan\, CA 95681)
SUMMARY:Sunday Morning Worship Service
URL:https://www.fbcsheridan.org/events/event/1074-sunday-morning-worship-se
 rvice
END:VEVENT
BEGIN:VEVENT
UID:20260422T105229UTC-1239V5ZkSe@https://www.fbcsheridan.org/
DTSTAMP:20260422T105229Z
DESCRIPTION: https://www.fbcsheridan.org/events/event/2326-sunday-school
DTSTART:20460819T170000Z
DTEND:20460819T180000Z
LOCATION:Faith Baptist Church (4101 Riosa Road\, Sheridan\, CA 95681)
SUMMARY:Sunday School
URL:https://www.fbcsheridan.org/events/event/2326-sunday-school
END:VEVENT
BEGIN:VEVENT
UID:20260422T105229UTC-1240iv2IEm@https://www.fbcsheridan.org/
DTSTAMP:20260422T105229Z
DESCRIPTION: https://www.fbcsheridan.org/events/event/3579-sunday-evening-s
 ervice
DTSTART:20460820T000000Z
DTEND:20460820T010000Z
LOCATION:Faith Baptist Church (4101 Riosa Road\, Sheridan\, CA 95681)
SUMMARY:Sunday Evening Service
URL:https://www.fbcsheridan.org/events/event/3579-sunday-evening-service
END:VEVENT
END:VCALENDAR
