BEGIN:VCALENDAR
VERSION:2.0
PRODID:-//https://www.fbcsheridan.org///NONSGML kigkonsult.se iCalcreator 2.10.15//
METHOD:PUBLISH
BEGIN:VEVENT
UID:20260421T161604UTC-87156VcDo8@https://www.fbcsheridan.org/
DTSTAMP:20260421T161604Z
DESCRIPTION: https://www.fbcsheridan.org/events/event/1022-sunday-morning-w
 orship-service
DTSTART:20450820T180000Z
DTEND:20450820T190000Z
LOCATION:Faith Baptist Church (4101 Riosa Road\, Sheridan\, CA 95681)
SUMMARY:Sunday Morning Worship Service
URL:https://www.fbcsheridan.org/events/event/1022-sunday-morning-worship-se
 rvice
END:VEVENT
BEGIN:VEVENT
UID:20260421T161604UTC-8716tGTDvA@https://www.fbcsheridan.org/
DTSTAMP:20260421T161604Z
DESCRIPTION: https://www.fbcsheridan.org/events/event/2274-sunday-school
DTSTART:20450820T170000Z
DTEND:20450820T180000Z
LOCATION:Faith Baptist Church (4101 Riosa Road\, Sheridan\, CA 95681)
SUMMARY:Sunday School
URL:https://www.fbcsheridan.org/events/event/2274-sunday-school
END:VEVENT
BEGIN:VEVENT
UID:20260421T161604UTC-8717fVkfj2@https://www.fbcsheridan.org/
DTSTAMP:20260421T161604Z
DESCRIPTION: https://www.fbcsheridan.org/events/event/3527-sunday-evening-s
 ervice
DTSTART:20450821T000000Z
DTEND:20450821T010000Z
LOCATION:Faith Baptist Church (4101 Riosa Road\, Sheridan\, CA 95681)
SUMMARY:Sunday Evening Service
URL:https://www.fbcsheridan.org/events/event/3527-sunday-evening-service
END:VEVENT
END:VCALENDAR
