BEGIN:VCALENDAR
VERSION:2.0
PRODID:-//https://www.fbcsheridan.org///NONSGML kigkonsult.se iCalcreator 2.10.15//
METHOD:PUBLISH
BEGIN:VEVENT
UID:20260424T211232UTC-0665ZvxxX2@https://www.fbcsheridan.org/
DTSTAMP:20260424T211232Z
DESCRIPTION: https://www.fbcsheridan.org/events/event/1231-sunday-morning-w
 orship-service
DTSTART:20490822T180000Z
DTEND:20490822T190000Z
LOCATION:Faith Baptist Church (4101 Riosa Road\, Sheridan\, CA 95681)
SUMMARY:Sunday Morning Worship Service
URL:https://www.fbcsheridan.org/events/event/1231-sunday-morning-worship-se
 rvice
END:VEVENT
BEGIN:VEVENT
UID:20260424T211232UTC-06676sI0TH@https://www.fbcsheridan.org/
DTSTAMP:20260424T211232Z
DESCRIPTION: https://www.fbcsheridan.org/events/event/2483-sunday-school
DTSTART:20490822T170000Z
DTEND:20490822T180000Z
LOCATION:Faith Baptist Church (4101 Riosa Road\, Sheridan\, CA 95681)
SUMMARY:Sunday School
URL:https://www.fbcsheridan.org/events/event/2483-sunday-school
END:VEVENT
BEGIN:VEVENT
UID:20260424T211232UTC-0668e3RuT9@https://www.fbcsheridan.org/
DTSTAMP:20260424T211232Z
DESCRIPTION: https://www.fbcsheridan.org/events/event/3736-sunday-evening-s
 ervice
DTSTART:20490823T000000Z
DTEND:20490823T010000Z
LOCATION:Faith Baptist Church (4101 Riosa Road\, Sheridan\, CA 95681)
SUMMARY:Sunday Evening Service
URL:https://www.fbcsheridan.org/events/event/3736-sunday-evening-service
END:VEVENT
END:VCALENDAR
